BEGIN:VCALENDAR
VERSION:2.0
PRODID:DPCALENDAR
CALSCALE:GREGORIAN
X-WR-TIMEZONE:UTC
BEGIN:VEVENT
DTSTART;TZID=UTC:20231005T080000
DTEND;TZID=UTC:20231005T100000
UID:471FB0C3-9DA4-4195-98DA-D89EA0ACC81F
SUMMARY:Testveranstaltung 1
CREATED:20230925T085146Z
DTSTAMP:20230925T085146Z
URL:https://bsvherbede.wsb1861.de/index.php/termine/testveranstaltung-1
LAST-MODIFIED:20230925T085242Z
SEQUENCE:56
X-ACCESS:1
X-HITS:20
X-COLOR:3366cc
X-SHOW-END-TIME:1
END:VEVENT
BEGIN:VEVENT
DTSTART;TZID=UTC:20231019T080000
DTEND;TZID=UTC:20231019T100000
UID:A11A1E22-7BE8-4B25-90B5-A43B4D9BE73F
SUMMARY:Testveranstaltung 2
CREATED:20230925T085146Z
DTSTAMP:20230925T085146Z
URL:https://bsvherbede.wsb1861.de/index.php/termine/testveranstaltung-2
LAST-MODIFIED:20230925T085624Z
SEQUENCE:278
X-ACCESS:1
X-HITS:22
X-COLOR:3366cc
X-SHOW-END-TIME:1
END:VEVENT
BEGIN:VEVENT
DTSTART;TZID=UTC:20231101T080000
DTEND;TZID=UTC:20231101T100000
UID:63EDBF84-B547-4640-9BCD-94560BD96B4A
SUMMARY:Testveranstaltung 3
CREATED:20230925T085146Z
DTSTAMP:20230925T085146Z
URL:https://bsvherbede.wsb1861.de/index.php/termine/testveranstaltung-3
LAST-MODIFIED:20230925T085635Z
SEQUENCE:289
X-ACCESS:1
X-HITS:22
X-COLOR:3366cc
X-SHOW-END-TIME:1
END:VEVENT
END:VCALENDAR